BEGIN:VCALENDAR
VERSION:2.0
PRODID:-//ANZFSS - ECPv6.15.18//NONSGML v1.0//EN
CALSCALE:GREGORIAN
METHOD:PUBLISH
X-WR-CALNAME:ANZFSS
X-ORIGINAL-URL:https://anzfss.org.au
X-WR-CALDESC:Events for ANZFSS
REFRESH-INTERVAL;VALUE=DURATION:PT1H
X-Robots-Tag:noindex
X-PUBLISHED-TTL:PT1H
BEGIN:VTIMEZONE
TZID:Australia/Adelaide
BEGIN:STANDARD
TZOFFSETFROM:+1030
TZOFFSETTO:+0930
TZNAME:ACST
DTSTART:20250405T163000
END:STANDARD
BEGIN:DAYLIGHT
TZOFFSETFROM:+0930
TZOFFSETTO:+1030
TZNAME:ACDT
DTSTART:20251004T163000
END:DAYLIGHT
BEGIN:STANDARD
TZOFFSETFROM:+1030
TZOFFSETTO:+0930
TZNAME:ACST
DTSTART:20260404T163000
END:STANDARD
BEGIN:DAYLIGHT
TZOFFSETFROM:+0930
TZOFFSETTO:+1030
TZNAME:ACDT
DTSTART:20261003T163000
END:DAYLIGHT
BEGIN:STANDARD
TZOFFSETFROM:+1030
TZOFFSETTO:+0930
TZNAME:ACST
DTSTART:20270403T163000
END:STANDARD
BEGIN:DAYLIGHT
TZOFFSETFROM:+0930
TZOFFSETTO:+1030
TZNAME:ACDT
DTSTART:20271002T163000
END:DAYLIGHT
END:VTIMEZONE
BEGIN:VEVENT
DTSTART;TZID=Australia/Adelaide:20260331T183000
DTEND;TZID=Australia/Adelaide:20260331T210000
DTSTAMP:20260424T215213
CREATED:20260301T122045Z
LAST-MODIFIED:20260326T123251Z
UID:10000097-1774981800-1774990800@anzfss.org.au
SUMMARY:Unmasking the Bicycle Bandit — SA Branch Member Night
DESCRIPTION:Join us for an engaging evening as Detective Senior Sergeant Danny Gillan and Detective Brevet Sergeant Adrian Moulds from South Australia Police take us inside the investigation known as Unmasking the Bicycle Bandit. \nBetween 2004 and 2014\, a lone offender committed a series of armed bank robberies across the Adelaide Hills\, earning the media monikers “The Hills Bandit” and “The Bicycle Bandit”. After years of investigative effort\, the offender was finally identified in 2023 through the successful application of Forensic Investigative Genetic Genealogy (FIGG). \nThis presentation will walk through the investigative strategy\, forensic breakthroughs\, and the long game that ultimately led to the offender’s arrest and conviction. \nLocation: \nUnley Community Centre \n18 Arthur Street\, Unley SA \n  \nDate: Tuesday 31 March 2026 \nTime: 6:30 pm for a 7:00 pm start \n  \nCost: \n• Members — Free \n• Student non-members (with valid ID) — $5 \n• Non-members — $10 \nRegister here: \nhttps://members.anzfss.org/booking.php?id=106
URL:https://anzfss.org.au/event/unmasking-the-bicycle-bandit-sa-branch-member-night/
LOCATION:Unley Community Centre\, 18 Arthur Street\, Unley\, South Australia\, 5061\, Australia
CATEGORIES:General,South Australia
ATTACH;FMTTYPE=image/jpeg:https://anzfss.org.au/wp-content/uploads/logo-1.jpg
ORGANIZER;CN="SA Branch":MAILTO:sabranch@anzfss.org
END:VEVENT
END:VCALENDAR