BEGIN:VCALENDAR
VERSION:2.0
PRODID:-//ANZFSS - ECPv6.15.18//NONSGML v1.0//EN
CALSCALE:GREGORIAN
METHOD:PUBLISH
X-ORIGINAL-URL:https://anzfss.org.au
X-WR-CALDESC:Events for ANZFSS
REFRESH-INTERVAL;VALUE=DURATION:PT1H
X-Robots-Tag:noindex
X-PUBLISHED-TTL:PT1H
BEGIN:VTIMEZONE
TZID:Australia/Perth
BEGIN:STANDARD
TZOFFSETFROM:+0800
TZOFFSETTO:+0800
TZNAME:AWST
DTSTART:20210101T000000
END:STANDARD
END:VTIMEZONE
BEGIN:VEVENT
DTSTART;TZID=Australia/Perth:20220823T180000
DTEND;TZID=Australia/Perth:20220823T190000
DTSTAMP:20260422T110551
CREATED:20220815T001111Z
LAST-MODIFIED:20220927T060611Z
UID:10000011-1661277600-1661281200@anzfss.org.au
SUMMARY:WA Webinar: Chemical Analysis of Works of Art
DESCRIPTION:After a brief hiatus\, the WA Branch are pleased to invite you to our next webinar! Our speaker is Dr Michelle Carlin\, who will be presenting on “Chemical Analysis of Works of Art: Interesting Cases”. \nThis webinar will be held via Zoom from 6:00 pm AWST (UTC+8) on Tuesday 23rd August 2022. To register\, go to https://members.anzfss.org/booking.php?id=235. \nIf you have any questions or encounter any issues with registration\, please contact the committee at wabranch@anzfss.org. \nWe look forward to seeing you online!
URL:https://anzfss.org.au/event/wa-webinar-chemical-analysis-of-works-of-art/
LOCATION:Western Australia
CATEGORIES:Western Australia
ATTACH;FMTTYPE=image/jpeg:https://anzfss.org.au/wp-content/uploads/Speaker-Profile_Carlin.jpg
ORGANIZER;CN="WA Branch":MAILTO:wabranch@anzfss.org
END:VEVENT
END:VCALENDAR