BEGIN:VCALENDAR
VERSION:2.0
PRODID:-//ANZFSS - ECPv6.15.18//NONSGML v1.0//EN
CALSCALE:GREGORIAN
METHOD:PUBLISH
X-ORIGINAL-URL:https://anzfss.org.au
X-WR-CALDESC:Events for ANZFSS
REFRESH-INTERVAL;VALUE=DURATION:PT1H
X-Robots-Tag:noindex
X-PUBLISHED-TTL:PT1H
BEGIN:VTIMEZONE
TZID:Australia/Perth
BEGIN:STANDARD
TZOFFSETFROM:+0800
TZOFFSETTO:+0800
TZNAME:AWST
DTSTART:20220101T000000
END:STANDARD
END:VTIMEZONE
BEGIN:VEVENT
DTSTART;TZID=Australia/Perth:20230515T180000
DTEND;TZID=Australia/Perth:20230515T200000
DTSTAMP:20260421T183839
CREATED:20230414T053136Z
LAST-MODIFIED:20230421T201555Z
UID:10000028-1684173600-1684180800@anzfss.org.au
SUMMARY:Research in Forensic Science\, Presented by ANZFSS WA Student Representative Group
DESCRIPTION:Are you a student interested in forensic research\, but not sure which pathway is right for you? Then you won’t want to miss this showcase event by students\, for students! \nANZFSS WA student representatives Maddison Bourke (University of Western Australia)\, Lilijana Nicholls (Murdoch University) and Aaron Horrocks (Curtin University) will be presenting an overview of the forensic research carried out at each of their institutions\, along with an overview of their personal research projects – ranging from toxicology to explosives! \nThis is a great chance to get a behind-the-scenes glimpse of current research in action\, as well as potential pathways for forensic science research from a student’s perspective. \nThis event will be held from 6 – 8 pm on Monday 15th May at the Great Southern Room\, State Library of Western Australia. Catering will be provided and there will be plenty of opportunity to mix and mingle. \nPlaces are strictly limited due to venue capacity. Please book your places by Friday 12th May at the link below. \nhttps://members.anzfss.org/booking.php?id=8
URL:https://anzfss.org.au/event/research-in-forensic-science-presented-by-anzfss-wa-student-representative-group/
LOCATION:The State Library of Western Australia\, Great Southern Room\, 25 Francis St\, Perth\, WA\, 6000\, Australia
CATEGORIES:General,Western Australia
ATTACH;FMTTYPE=image/jpeg:https://anzfss.org.au/wp-content/uploads/Speaker-Profile_SRG-002.jpg
END:VEVENT
END:VCALENDAR